BEGIN:VCALENDAR
VERSION:2.0
PRODID:-//Limne - ECPv6.15.20//NONSGML v1.0//EN
CALSCALE:GREGORIAN
METHOD:PUBLISH
X-ORIGINAL-URL:https://www.limne.org
X-WR-CALDESC:Esdeveniments per Limne
REFRESH-INTERVAL;VALUE=DURATION:PT1H
X-Robots-Tag:noindex
X-PUBLISHED-TTL:PT1H
BEGIN:VTIMEZONE
TZID:Europe/Madrid
BEGIN:DAYLIGHT
TZOFFSETFROM:+0100
TZOFFSETTO:+0200
TZNAME:CEST
DTSTART:20250330T010000
END:DAYLIGHT
BEGIN:STANDARD
TZOFFSETFROM:+0200
TZOFFSETTO:+0100
TZNAME:CET
DTSTART:20251026T010000
END:STANDARD
BEGIN:DAYLIGHT
TZOFFSETFROM:+0100
TZOFFSETTO:+0200
TZNAME:CEST
DTSTART:20260329T010000
END:DAYLIGHT
BEGIN:STANDARD
TZOFFSETFROM:+0200
TZOFFSETTO:+0100
TZNAME:CET
DTSTART:20261025T010000
END:STANDARD
BEGIN:DAYLIGHT
TZOFFSETFROM:+0100
TZOFFSETTO:+0200
TZNAME:CEST
DTSTART:20270328T010000
END:DAYLIGHT
BEGIN:STANDARD
TZOFFSETFROM:+0200
TZOFFSETTO:+0100
TZNAME:CET
DTSTART:20271031T010000
END:STANDARD
END:VTIMEZONE
BEGIN:VEVENT
DTSTART;TZID=Europe/Madrid:20260131T080000
DTEND;TZID=Europe/Madrid:20260328T123000
DTSTAMP:20260422T193632
CREATED:20260123T074457Z
LAST-MODIFIED:20260123T074457Z
UID:17324-1769846400-1774701000@www.limne.org
SUMMARY:Propostes d'Educació Ambiental al CIN
DESCRIPTION:TALLERS EN FAMÍLIA AL CIN DE QUART DE POBLET! 👨‍👩‍👧‍👦🌱🔬 \nJa tenim la programació de tallers d’educació ambiental per a este trimestre al Centre d’Interpretació de la Natura (CIN) de Quart de Poblet! Una oportunitat única per aprendre\, jugar i connectar amb la natura. \nAGENDA TRIMESTRAL (Gener – Març): \n✨ 31 de Gener – Dia de l’Arbre 🌳:\nEns posem les botes per a una jornada de plantació i experiments botànics. Descobrireu la importància dels arbres per a la salut del nostre #RiuTúria! \n✨ 28 de Febrer – La Dona i la Ciència 👩‍🔬:\nCelebrem el Dia Mundial de la Dona fent un repàs a les grans científiques que han canviat el món. Inspiració per als més joves i visibilitat ♀! \n✨ 28 de Març – Dia Mundial d’Acció pels Rius 💪:\nQuè amaga el riu? Coneixerem les seues parts\, els seus secrets i què podem fer en el nostre dia a dia per a ser les seues guardianes. \n📅 Tots els tallers comencen a les 10:30 hores! \nNo et quedes sense plaça! L’aforament és limitat i la diversió és il·limitada. 😉 \n👉 Més informació a la nostra web (enllaç a la bio). \nLes activitats compten amb el suport del #ConveniTúria amb la Confederació Hidrogràfica del Xúquer i també compta amb el suport de l’Ajuntament de Quart de Poblet.
URL:https://www.limne.org/agenda/propostes-deducacio-ambiental-al-cin/
LOCATION:CIN\, c/ Pintor Ribera\, 2A\, Quart de Poblet\, VALENCIA\, 46930\, Espanya
ATTACH;FMTTYPE=image/png:https://www.limne.org/wp-content/uploads/2026/01/230101_educ_ambiental_CT.png
ORGANIZER;CN="Equip de participaci%C3%B3":MAILTO:participa@limne.org
END:VEVENT
BEGIN:VEVENT
DTSTART;TZID=Europe/Madrid:20260131T103000
DTEND;TZID=Europe/Madrid:20260131T123000
DTSTAMP:20260422T193632
CREATED:20260123T073919Z
LAST-MODIFIED:20260123T073919Z
UID:17318-1769855400-1769862600@www.limne.org
SUMMARY:Plantació a Antella
DESCRIPTION:El projecte #CanyaalaCanya vos convida a una nova jornada de plantació que tindrà lloc a Antella\, el pròxim 31 de gener a les 10:30 h. \n Un bosc de ribera és vida! La vegetació de ribera no és només bonica\, és essencial per a la salut dels nostres #RiusValencians\, ja que: \n\nFiltrarà l’aigua: Millora la qualitat de l’aigua\, retenint contaminants abans que arriben al riu.\nProtegirà els marges: Estabilitza les ribes\, prevenint l’erosió i protegint contra les crescudes.\nDonarà refugi: Crea hàbitats vitals per a una gran varietat d’espècies animals i vegetals\, augmentant la #Biodiversitat.\nRegularà la temperatura: Proporciona ombra\, mantenint el riu més fresc i afavorint la vida aquàtica.\n\nNo cal experiència prèvia\, només ganes de col·laborar i passar un matí a l’aire lliure! \n On: Assut d’Antella\n Quan: 31 de gener\n Hora: 10:30 h \nInscriu-te i sigues part del canvi que volem veure al nostre riu!  coopera@limne.org / 652 040 061 \nL’activitat s’emmarca al projecte Canya a la Canya\, que compta amb el suport de la Fundación Biodiversidad del Ministerio para la Transición Ecológica y el Reto Demográfico (MITECO) en el marc del Plan de Recuperación\, Transformación y Resiliencia (PRTR)\, finançat per la Unió Europea – NextGenerationEU.
URL:https://www.limne.org/agenda/plantacio-a-antella-2/
ATTACH;FMTTYPE=image/png:https://www.limne.org/wp-content/uploads/2026/01/260131_CAC_Antella.png
ORGANIZER;CN="Equip de participaci%C3%B3":MAILTO:participa@limne.org
END:VEVENT
END:VCALENDAR