BEGIN:VCALENDAR
VERSION:2.0
PRODID:-//Limne - ECPv6.15.20//NONSGML v1.0//EN
CALSCALE:GREGORIAN
METHOD:PUBLISH
X-ORIGINAL-URL:https://www.limne.org
X-WR-CALDESC:Esdeveniments per Limne
REFRESH-INTERVAL;VALUE=DURATION:PT1H
X-Robots-Tag:noindex
X-PUBLISHED-TTL:PT1H
BEGIN:VTIMEZONE
TZID:Europe/Madrid
BEGIN:DAYLIGHT
TZOFFSETFROM:+0100
TZOFFSETTO:+0200
TZNAME:CEST
DTSTART:20250330T010000
END:DAYLIGHT
BEGIN:STANDARD
TZOFFSETFROM:+0200
TZOFFSETTO:+0100
TZNAME:CET
DTSTART:20251026T010000
END:STANDARD
BEGIN:DAYLIGHT
TZOFFSETFROM:+0100
TZOFFSETTO:+0200
TZNAME:CEST
DTSTART:20260329T010000
END:DAYLIGHT
BEGIN:STANDARD
TZOFFSETFROM:+0200
TZOFFSETTO:+0100
TZNAME:CET
DTSTART:20261025T010000
END:STANDARD
BEGIN:DAYLIGHT
TZOFFSETFROM:+0100
TZOFFSETTO:+0200
TZNAME:CEST
DTSTART:20270328T010000
END:DAYLIGHT
BEGIN:STANDARD
TZOFFSETFROM:+0200
TZOFFSETTO:+0100
TZNAME:CET
DTSTART:20271031T010000
END:STANDARD
END:VTIMEZONE
BEGIN:VEVENT
DTSTART;TZID=Europe/Madrid:20260419T103000
DTEND;TZID=Europe/Madrid:20260419T123000
DTSTAMP:20260422T164612
CREATED:20260407T064308Z
LAST-MODIFIED:20260407T064308Z
UID:17373-1776594600-1776601800@www.limne.org
SUMMARY:Inspecció a Chulilla
DESCRIPTION:El riu l’hem de cuidar entre totes!  I\, per tal de fer-ho\, vigilar-lo és clau. Vols saber com es fa? Tenim una nova inspecció de riu a Chulilla! \n Quan? 19 d’abril\, a les 10:30h. \n Punt de trobada: Parking El Barranquillo – Tesoro \nLa Fundació Limne i l’Ajuntament de Chulilla\, vos convidem a una jornada de #VoluntariatAmbiental per inspeccionar el riu  \nActivitat que s’organitza dins del #ConveniTúria\, amb el suport de la Confederació Hidrogràfica del Xúquer. \nSuma’t a l’acció!  Anem inspeccionar\, però també a parlar de què li passa al nostre riu. Quins problemes creieu que l’afecten més? Vine\, comenta i obrim debat!
URL:https://www.limne.org/agenda/inspeccio-a-chulilla/
ATTACH;FMTTYPE=image/png:https://www.limne.org/wp-content/uploads/2026/04/260419_Chulilla_CT.png
ORGANIZER;CN="Equip de participaci%C3%B3":MAILTO:participa@limne.org
END:VEVENT
BEGIN:VEVENT
DTSTART;TZID=Europe/Madrid:20260419T103000
DTEND;TZID=Europe/Madrid:20260419T123000
DTSTAMP:20260422T164612
CREATED:20260407T091608Z
LAST-MODIFIED:20260407T092443Z
UID:17377-1776594600-1776601800@www.limne.org
SUMMARY:Plantació a Fortaleny
DESCRIPTION:El Consorci de La Ribera i Limne vos convidem a una nova jornada de plantació que tindrà lloc a Fortaleny\, el pròxim 19 d’abril a les 10:30 h. \n Un bosc de ribera és vida! La vegetació de ribera no és només bonica\, és essencial per a la salut dels nostres #RiusValencians\, ja que: \n\nFiltrarà l’aigua: Millora la qualitat de l’aigua\, retenint contaminants abans que arriben al riu.\nProtegirà els marges: Estabilitza les ribes\, prevenint l’erosió i protegint contra les crescudes.\nDonarà refugi: Crea hàbitats vitals per a una gran varietat d’espècies animals i vegetals\, augmentant la #Biodiversitat.\nRegularà la temperatura: Proporciona ombra\, mantenint el riu més fresc i afavorint la vida aquàtica.\n\nNo cal experiència prèvia\, només ganes de col·laborar i passar un matí a l’aire lliure! \n On: Assut de Fortaleny\n Quan: 19 d’abril\n Hora: 10:30 h \nInscriu-te i sigues part del canvi que volem vore al nostre riu!
URL:https://www.limne.org/agenda/plantacio-a-fortaleny/
ATTACH;FMTTYPE=image/png:https://www.limne.org/wp-content/uploads/2026/04/260419_Plantacio_Fortaleny-1.png
ORGANIZER;CN="Equip de participaci%C3%B3":MAILTO:participa@limne.org
END:VEVENT
END:VCALENDAR