BEGIN:VCALENDAR
VERSION:2.0
PRODID:-//Limne - ECPv6.15.20//NONSGML v1.0//EN
CALSCALE:GREGORIAN
METHOD:PUBLISH
X-WR-CALNAME:Limne
X-ORIGINAL-URL:https://www.limne.org
X-WR-CALDESC:Esdeveniments per Limne
REFRESH-INTERVAL;VALUE=DURATION:PT1H
X-Robots-Tag:noindex
X-PUBLISHED-TTL:PT1H
BEGIN:VTIMEZONE
TZID:Europe/Madrid
BEGIN:DAYLIGHT
TZOFFSETFROM:+0100
TZOFFSETTO:+0200
TZNAME:CEST
DTSTART:20250330T010000
END:DAYLIGHT
BEGIN:STANDARD
TZOFFSETFROM:+0200
TZOFFSETTO:+0100
TZNAME:CET
DTSTART:20251026T010000
END:STANDARD
BEGIN:DAYLIGHT
TZOFFSETFROM:+0100
TZOFFSETTO:+0200
TZNAME:CEST
DTSTART:20260329T010000
END:DAYLIGHT
BEGIN:STANDARD
TZOFFSETFROM:+0200
TZOFFSETTO:+0100
TZNAME:CET
DTSTART:20261025T010000
END:STANDARD
BEGIN:DAYLIGHT
TZOFFSETFROM:+0100
TZOFFSETTO:+0200
TZNAME:CEST
DTSTART:20270328T010000
END:DAYLIGHT
BEGIN:STANDARD
TZOFFSETFROM:+0200
TZOFFSETTO:+0100
TZNAME:CET
DTSTART:20271031T010000
END:STANDARD
END:VTIMEZONE
BEGIN:VEVENT
DTSTART;TZID=Europe/Madrid:20260131T080000
DTEND;TZID=Europe/Madrid:20260328T123000
DTSTAMP:20260422T194137
CREATED:20260123T074457Z
LAST-MODIFIED:20260123T074457Z
UID:17324-1769846400-1774701000@www.limne.org
SUMMARY:Propostes d'Educació Ambiental al CIN
DESCRIPTION:TALLERS EN FAMÍLIA AL CIN DE QUART DE POBLET! 👨‍👩‍👧‍👦🌱🔬 \nJa tenim la programació de tallers d’educació ambiental per a este trimestre al Centre d’Interpretació de la Natura (CIN) de Quart de Poblet! Una oportunitat única per aprendre\, jugar i connectar amb la natura. \nAGENDA TRIMESTRAL (Gener – Març): \n✨ 31 de Gener – Dia de l’Arbre 🌳:\nEns posem les botes per a una jornada de plantació i experiments botànics. Descobrireu la importància dels arbres per a la salut del nostre #RiuTúria! \n✨ 28 de Febrer – La Dona i la Ciència 👩‍🔬:\nCelebrem el Dia Mundial de la Dona fent un repàs a les grans científiques que han canviat el món. Inspiració per als més joves i visibilitat ♀! \n✨ 28 de Març – Dia Mundial d’Acció pels Rius 💪:\nQuè amaga el riu? Coneixerem les seues parts\, els seus secrets i què podem fer en el nostre dia a dia per a ser les seues guardianes. \n📅 Tots els tallers comencen a les 10:30 hores! \nNo et quedes sense plaça! L’aforament és limitat i la diversió és il·limitada. 😉 \n👉 Més informació a la nostra web (enllaç a la bio). \nLes activitats compten amb el suport del #ConveniTúria amb la Confederació Hidrogràfica del Xúquer i també compta amb el suport de l’Ajuntament de Quart de Poblet.
URL:https://www.limne.org/agenda/propostes-deducacio-ambiental-al-cin/
LOCATION:CIN\, c/ Pintor Ribera\, 2A\, Quart de Poblet\, VALENCIA\, 46930\, Espanya
ATTACH;FMTTYPE=image/png:https://www.limne.org/wp-content/uploads/2026/01/230101_educ_ambiental_CT.png
ORGANIZER;CN="Equip de participaci%C3%B3":MAILTO:participa@limne.org
END:VEVENT
BEGIN:VEVENT
DTSTART;TZID=Europe/Madrid:20260301T103000
DTEND;TZID=Europe/Madrid:20260329T123000
DTSTAMP:20260422T194137
CREATED:20260301T090428Z
LAST-MODIFIED:20260301T090428Z
UID:17347-1772361000-1774787400@www.limne.org
SUMMARY: PLANTACIONS #CanyaalaCanya!
DESCRIPTION: PLANTACIONS #CanyaalaCanya!  El nostre projecte de restauració fluvial entra en la recta final i et necessitem més que mai!  \nAquest cap de setmana tenim una doble cita amb el Riu Xúquer: \n Diumenge 1 de març:\n Fortaleny (assut)\n 10:30 h \n Diumenge 1 de març:\n Gavarda (antic llavador)\n 10:30 h \n Diumenge 8 de març:\n Antella (assut)\n 10:30 h \n Diumenge 29 de març:\n Polinyà de Xúquer (zona d’oci del riu)\n 10:30 h \nSuma’t al #VoluntariatAmbiental i ajuda’ns a plantar vegetació autòctona de ribera! Cada planta és vida\, protecció contra l’erosió i un pas més cap a un ecosistema més sa.  \nNo cal experiència prèvia\, només ganes de col·laborar i passar un matí a l’aire lliure. Portarem les eines i el bon ambient!  \n Inscriu-te ja i sigues part del canvi! \nparticipa@limne.org / 654 076 533 \nEns veiem vora riu!  \nEl programa d’activitats s’emmarca al projecte Canya a la Canya\, que compta amb el suport de la Fundación Biodiversidad del Ministerio para la Transición Ecológica y el Reto Demográfico (MITECO) en el marc del Plan de Recuperación\, Transformación y Resiliencia (PRTR)\, finançat per la Unió Europea – NextGenerationEU.
URL:https://www.limne.org/agenda/plantacions-canyaalacanya/
ATTACH;FMTTYPE=image/png:https://www.limne.org/wp-content/uploads/2026/03/CAC_plantacions_marc.png
ORGANIZER;CN="Equip de participaci%C3%B3":MAILTO:participa@limne.org
END:VEVENT
BEGIN:VEVENT
DTSTART;TZID=Europe/Madrid:20260328T103000
DTEND;TZID=Europe/Madrid:20260328T123000
DTSTAMP:20260422T194137
CREATED:20260301T090812Z
LAST-MODIFIED:20260301T090812Z
UID:17352-1774693800-1774701000@www.limne.org
SUMMARY:Explorant el riu a Riola
DESCRIPTION:Des de la Fundació Limne\, i dins del projecte Canya a la canya\, posem en marxa una nova proposta d’educació ambiental: “Explorant el Riu”. Volem convidar-te a caminar amb nosaltres i convertir-te en els ulls del riu! 👁️💧 \nEsta iniciativa no és només un passeig; és una oportunitat per aprendre a mirar el riu amb la lupa de la conservació ambiental. Descobrirem la seua biodiversitat\, entendrem els reptes que afronta i coneixerem la importància del riu com a element de cohesió territorial. \nEns ajudes a protegir-lo? La teua participació és clau! 💪💚 \n📍 Riola\n🗓️ Quan? Dissabte 28 de març\n⏰ Hora? 10:30 h\n🗺️ Punt de trobada: Assut de Riola \nVine a formar part del canvi! Inscriu-te i forma part d’esta aventura de coneixement i natura! \n👉 Inscripcions: participa@limne.org / 654 076 533 \nL’activitat s’emmarca al projecte Canya a la Canya\, que compta amb el suport de la Fundación Biodiversidad del Ministerio para la Transición Ecológica y el Reto Demográfico (MITECO) en el marc del Plan de Recuperación\, Transformación y Resiliencia (PRTR)\, finançat per la Unió Europea – NextGenerationEU.
URL:https://www.limne.org/agenda/explorant-el-riu-a-riola/
ATTACH;FMTTYPE=image/png:https://www.limne.org/wp-content/uploads/2026/03/260328_CAC_Riola.png
ORGANIZER;CN="Equip de participaci%C3%B3":MAILTO:participa@limne.org
END:VEVENT
BEGIN:VEVENT
DTSTART;TZID=Europe/Madrid:20260328T103000
DTEND;TZID=Europe/Madrid:20260328T123000
DTSTAMP:20260422T194137
CREATED:20260301T091149Z
LAST-MODIFIED:20260301T091149Z
UID:17355-1774693800-1774701000@www.limne.org
SUMMARY:Inspecció de riu a Sellent
DESCRIPTION:El riu l’hem de cuidar entre totes!  I\, per tal de fer-ho\, vigilar-lo és clau. Vols saber com es fa? Tenim una nova inspecció de riu a Sellent! \n Quan? 28 de març\, a les 10:30h. \n Punt de trobada: Ajuntament de Sellent \nLa Fundació Limne\, el Consorci de La Ribera i l’Ajuntament de Sellent\, vos convidem a una jornada de #VoluntariatAmbiental per inspeccionar el riu  \nSuma’t a l’acció!  Anem inspeccionar\, però també a parlar de què li passa al nostre riu. Quins problemes creieu que l’afecten més? Vine\, comenta i obrim debat!
URL:https://www.limne.org/agenda/inspeccio-de-riu-a-sellent/
ATTACH;FMTTYPE=image/png:https://www.limne.org/wp-content/uploads/2026/03/160328_Sellent.png
ORGANIZER;CN="Equip de participaci%C3%B3":MAILTO:participa@limne.org
END:VEVENT
BEGIN:VEVENT
DTSTART;TZID=Europe/Madrid:20260329T103000
DTEND;TZID=Europe/Madrid:20260329T123000
DTSTAMP:20260422T194137
CREATED:20260330T122905Z
LAST-MODIFIED:20260407T064331Z
UID:17362-1774780200-1774787400@www.limne.org
SUMMARY:Inpecció de riu a Chulilla
DESCRIPTION:El riu l’hem de cuidar entre totes! 🩵 I\, per tal de fer-ho\, vigilar-lo és clau. Vols saber com es fa? Tenim una nova inspecció de riu a Chulilla! \n🗓️ Quan? 29 de març\, a les 10:30h. \n📍 Punt de trobada: Charco Azul \nLa Fundació Limne i l’Ajuntament de Chulilla\, vos convidem a una jornada de #VoluntariatAmbiental per inspeccionar el riu 🔬💧 \nActivitat que s’organitza dins del #ConveniTúria\, amb el suport de la Confederació Hidrogràfica del Xúquer. \nSuma’t a l’acció! 💪 Anem inspeccionar\, però també a parlar de què li passa al nostre riu. Quins problemes creieu que l’afecten més? Vine\, comenta i obrim debat!
URL:https://www.limne.org/agenda/inpeccio-de-riu-a-chulilla/
ATTACH;FMTTYPE=image/png:https://www.limne.org/wp-content/uploads/2026/03/260329_Chulilla_CT-1.png
ORGANIZER;CN="Equip de participaci%C3%B3":MAILTO:participa@limne.org
END:VEVENT
BEGIN:VEVENT
DTSTART;TZID=Europe/Madrid:20260418T103000
DTEND;TZID=Europe/Madrid:20260418T123000
DTSTAMP:20260422T194137
CREATED:20260407T093629Z
LAST-MODIFIED:20260407T093629Z
UID:17381-1776508200-1776515400@www.limne.org
SUMMARY:Inspecció a Senyera
DESCRIPTION:El riu l’hem de cuidar entre totes!  El proper cap de setmana\, teniu una nova inspecció de riu a Senyera! \n Quan? 18 d’abril\, a les 10:30h. \n On? Jardí riu Albaida \nLa Fundació Limne\, el Consorci de La Ribera i l’Ajuntament de Senyera\, vos convidem a una jornada de #VoluntariatAmbiental per inspeccionar el riu  \nSuma’t a l’acció!  Anem inspeccionar\, però també a parlar de què li passa al nostre riu. Quins problemes creieu que l’afecten més? Vine\, comenta i obrim debat!
URL:https://www.limne.org/agenda/inspeccio-a-senyera/
ATTACH;FMTTYPE=image/png:https://www.limne.org/wp-content/uploads/2026/04/260418_Inspeccio_Senyera.png
ORGANIZER;CN="Equip de participaci%C3%B3":MAILTO:participa@limne.org
END:VEVENT
BEGIN:VEVENT
DTSTART;TZID=Europe/Madrid:20260419T103000
DTEND;TZID=Europe/Madrid:20260419T123000
DTSTAMP:20260422T194137
CREATED:20260407T064308Z
LAST-MODIFIED:20260407T064308Z
UID:17373-1776594600-1776601800@www.limne.org
SUMMARY:Inspecció a Chulilla
DESCRIPTION:El riu l’hem de cuidar entre totes!  I\, per tal de fer-ho\, vigilar-lo és clau. Vols saber com es fa? Tenim una nova inspecció de riu a Chulilla! \n Quan? 19 d’abril\, a les 10:30h. \n Punt de trobada: Parking El Barranquillo – Tesoro \nLa Fundació Limne i l’Ajuntament de Chulilla\, vos convidem a una jornada de #VoluntariatAmbiental per inspeccionar el riu  \nActivitat que s’organitza dins del #ConveniTúria\, amb el suport de la Confederació Hidrogràfica del Xúquer. \nSuma’t a l’acció!  Anem inspeccionar\, però també a parlar de què li passa al nostre riu. Quins problemes creieu que l’afecten més? Vine\, comenta i obrim debat!
URL:https://www.limne.org/agenda/inspeccio-a-chulilla/
ATTACH;FMTTYPE=image/png:https://www.limne.org/wp-content/uploads/2026/04/260419_Chulilla_CT.png
ORGANIZER;CN="Equip de participaci%C3%B3":MAILTO:participa@limne.org
END:VEVENT
BEGIN:VEVENT
DTSTART;TZID=Europe/Madrid:20260419T103000
DTEND;TZID=Europe/Madrid:20260419T123000
DTSTAMP:20260422T194137
CREATED:20260407T091608Z
LAST-MODIFIED:20260407T092443Z
UID:17377-1776594600-1776601800@www.limne.org
SUMMARY:Plantació a Fortaleny
DESCRIPTION:El Consorci de La Ribera i Limne vos convidem a una nova jornada de plantació que tindrà lloc a Fortaleny\, el pròxim 19 d’abril a les 10:30 h. \n Un bosc de ribera és vida! La vegetació de ribera no és només bonica\, és essencial per a la salut dels nostres #RiusValencians\, ja que: \n\nFiltrarà l’aigua: Millora la qualitat de l’aigua\, retenint contaminants abans que arriben al riu.\nProtegirà els marges: Estabilitza les ribes\, prevenint l’erosió i protegint contra les crescudes.\nDonarà refugi: Crea hàbitats vitals per a una gran varietat d’espècies animals i vegetals\, augmentant la #Biodiversitat.\nRegularà la temperatura: Proporciona ombra\, mantenint el riu més fresc i afavorint la vida aquàtica.\n\nNo cal experiència prèvia\, només ganes de col·laborar i passar un matí a l’aire lliure! \n On: Assut de Fortaleny\n Quan: 19 d’abril\n Hora: 10:30 h \nInscriu-te i sigues part del canvi que volem vore al nostre riu!
URL:https://www.limne.org/agenda/plantacio-a-fortaleny/
ATTACH;FMTTYPE=image/png:https://www.limne.org/wp-content/uploads/2026/04/260419_Plantacio_Fortaleny-1.png
ORGANIZER;CN="Equip de participaci%C3%B3":MAILTO:participa@limne.org
END:VEVENT
BEGIN:VEVENT
DTSTART;TZID=Europe/Madrid:20260425T103000
DTEND;TZID=Europe/Madrid:20260627T123000
DTSTAMP:20260422T194137
CREATED:20260325T095430Z
LAST-MODIFIED:20260325T095839Z
UID:17359-1777113000-1782563400@www.limne.org
SUMMARY:Activitats de primavera al CIN
DESCRIPTION:🌿✨ Limne t’acosta a la natura! ✨🌿 \nVols descobrir el riu Túria d’una manera divertida i educativa? 🌊👧👦 Vine als nostres tallers d’educació ambiental al CIN de Quart de Poblet i gaudix de propostes lúdiques per a tota la família! 💚 \n📅 Calendari d’activitats:\n🌳 25 d’abril a les 10:30h – Jornada d’experiments sobre el bosc de ribera. Descobrix la vida amagada entre els arbres i plantes del riu! 🍃\n🌍 30 de maig a les 10:30h – Jornada d’experiments sobre la contaminació. Aprén com cuidar el nostre entorn i protegir el Túria! 🚯\n🍂 27 de juny a les 10:30h – Jornada d’experiments sobre les estacions. Observa com canvia la natura al llarg de l’any! 🌸❄️☀️🍁 \nNo t’ho pots perdre! 📩 Reserva ja la teua plaça escrivint a educa@limne.org o cridant/whatsapejant al 654 048 509 📞 \n🌟 Unix-te a nosaltres per connectar amb la natura i aprendre jugant! 🌟 \n#FundacióLimne #EducacióAmbiental #Túria #Natura #TallersInfantils #QuartDePoblet #AprendreJugant #MediAmbient
URL:https://www.limne.org/agenda/activitats-de-primavera-al-cin/
LOCATION:CIN\, c/ Pintor Ribera\, 2A\, Quart de Poblet\, VALENCIA\, 46930\, Espanya
ATTACH;FMTTYPE=image/png:https://www.limne.org/wp-content/uploads/2026/03/Primavera26_CIN.png
ORGANIZER;CN="Equip de participaci%C3%B3":MAILTO:participa@limne.org
END:VEVENT
BEGIN:VEVENT
DTSTART;TZID=Europe/Madrid:20260426T103000
DTEND;TZID=Europe/Madrid:20260426T123000
DTSTAMP:20260422T194137
CREATED:20260415T093633Z
LAST-MODIFIED:20260415T093633Z
UID:17422-1777199400-1777206600@www.limne.org
SUMMARY:Plantació a La Canyada
DESCRIPTION:Unim forces per la salut del Túria!  T’esperem a La Canyada! \nEl proper 26 d’abril a les 10:30 h\, la Fundació Limne organitza una nova jornada de voluntariat ambiental a La Canyada (Paterna)\, dins del #ConveniTúria\, amb el suport de la Confederació Hidrogràfica del Xúquer. \nQuè farem? Plantarem espècies de ribera autòctones per a reforçar la vegetació del riu\, un pas essencial per a: \n Millorar la #Biodiversitat: Crear nous refugis per a la fauna local.\n Protegir el riu: Estabilitzar els marges i prevenir l’erosió.\n Deixar la nostra empremta: Contribuir directament a un Túria més viu i sa. \nLa teua energia i les teues ganes són el millor suport! No necessites experiència prèvia\, només ganes de gaudir de la natura i fer comunitat. \n Punt de trobada: Assut de la séquia de Quart-Benàger-Faitanar\n Data: 26 d’abril\n Hora: 10:30 h \n💧🔬L’activitat també inclourà inspecció del riu! \nInscriu-te ja!  participa@limne.org / 654 076 533 \nVols ser part del canvi? T’esperem vora riu! 
URL:https://www.limne.org/agenda/plantacio-a-la-canyada/
ATTACH;FMTTYPE=image/jpeg:https://www.limne.org/wp-content/uploads/2026/04/WhatsApp-Image-2026-04-15-at-11.16.46-AM.jpeg
ORGANIZER;CN="Equip de participaci%C3%B3":MAILTO:participa@limne.org
END:VEVENT
END:VCALENDAR