BEGIN:VCALENDAR
VERSION:2.0
PRODID:-//Limne - ECPv6.15.20//NONSGML v1.0//EN
CALSCALE:GREGORIAN
METHOD:PUBLISH
X-ORIGINAL-URL:https://www.limne.org
X-WR-CALDESC:Esdeveniments per Limne
REFRESH-INTERVAL;VALUE=DURATION:PT1H
X-Robots-Tag:noindex
X-PUBLISHED-TTL:PT1H
BEGIN:VTIMEZONE
TZID:Europe/Madrid
BEGIN:DAYLIGHT
TZOFFSETFROM:+0100
TZOFFSETTO:+0200
TZNAME:CEST
DTSTART:20240331T010000
END:DAYLIGHT
BEGIN:STANDARD
TZOFFSETFROM:+0200
TZOFFSETTO:+0100
TZNAME:CET
DTSTART:20241027T010000
END:STANDARD
BEGIN:DAYLIGHT
TZOFFSETFROM:+0100
TZOFFSETTO:+0200
TZNAME:CEST
DTSTART:20250330T010000
END:DAYLIGHT
BEGIN:STANDARD
TZOFFSETFROM:+0200
TZOFFSETTO:+0100
TZNAME:CET
DTSTART:20251026T010000
END:STANDARD
BEGIN:DAYLIGHT
TZOFFSETFROM:+0100
TZOFFSETTO:+0200
TZNAME:CEST
DTSTART:20260329T010000
END:DAYLIGHT
BEGIN:STANDARD
TZOFFSETFROM:+0200
TZOFFSETTO:+0100
TZNAME:CET
DTSTART:20261025T010000
END:STANDARD
END:VTIMEZONE
BEGIN:VEVENT
DTSTART;TZID=Europe/Madrid:20251102T103000
DTEND;TZID=Europe/Madrid:20251102T123000
DTSTAMP:20260422T224334
CREATED:20251027T144330Z
LAST-MODIFIED:20251027T144351Z
UID:17226-1762079400-1762086600@www.limne.org
SUMMARY:Plantació a Gavarda
DESCRIPTION:Vols sumar-te al canvi? 🌱 El 2 de novembre a les 10:30 h\, la Fundació Limne t’espera a l’Antic Llavador de Gavarda per a una nova jornada de voluntariat ambiental dins del projecte #CanyaalaCanya! \nUnim forces per a restaurar el #RiuXúquer\, plantant espècies autòctones que ajudaran a millorar la #Biodiversitat i la salut del nostre ecosistema. 🏞️ És una oportunitat fantàstica per a: \n✨ Gaudir de la natura a l’aire lliure.\n🤝 Fer comunitat i conèixer gent apassionada pel medi ambient.\n💚 Deixar una empremta positiva en el nostre entorn. \nNo necessites experiència prèvia\, només ganes de col·laborar! Nosaltres posem les eines i el bon ambient. \n📍 Antic Llavador de Gavarda\n🗓️ 2 de novembre\n⏰ 10:30 h \nInscriu-te ja i sigues part d’aquesta gran iniciativa! 👉 coopera@limne.org / 652 040 061 \n  \nL’activitat s’emmarca al projecte Canya a la Canya\, que compta amb el suport de la Fundación Biodiversidad del Ministerio para la Transición Ecológica y el Reto Demográfico (MITECO) en el marc del Plan de Recuperación\, Transformación y Resiliencia (PRTR)\, finançat per la Unió Europea – NextGenerationEU.
URL:https://www.limne.org/agenda/plantacio-a-gavarda/
ATTACH;FMTTYPE=image/png:https://www.limne.org/wp-content/uploads/2025/10/251102_CAC_Gavarda-1.png
ORGANIZER;CN="Equip de participaci%C3%B3":MAILTO:participa@limne.org
END:VEVENT
BEGIN:VEVENT
DTSTART;TZID=Europe/Madrid:20251102T103000
DTEND;TZID=Europe/Madrid:20251102T123000
DTSTAMP:20260422T224334
CREATED:20251027T144448Z
LAST-MODIFIED:20251027T144505Z
UID:17230-1762079400-1762086600@www.limne.org
SUMMARY:Inspecció de riu a Gestalgar
DESCRIPTION:Unim forces per la salut del Túria! 🏞️ El 2 de novembre a les 10:30h\, la Fundació Limne et convida a una nova inspecció fluvial a Gestalgar\, dins del #ConveniTúria. \n🔍 Vols ser part del canvi? Vine al Llavador del Passeig dels Chorros i ajuda’ns a monitoritzar i protegir el nostre riu. És una oportunitat única per a: \n✨ Aprendre sobre el nostre ecosistema fluvial.\n🤝 Conèixer gent apassionada pel medi ambient.\n💚 Contribuir directament a la conservació del Túria. \nNo cal experiència prèvia\, només ganes de sumar! Nosaltres posem les eines i l’energia. \n📍 Llavador del Passeig dels Chorros\, Gestalgar\n🗓️ 2 de novembre\n⏰ 10:30 h \nInscriu-te ja i sigues un agent de canvi! 👉 coopera@limne.org / 652 040 061
URL:https://www.limne.org/agenda/inspeccio-de-riu-a-gestalgar/
ATTACH;FMTTYPE=image/png:https://www.limne.org/wp-content/uploads/2025/10/251102_Gestalgar.png
ORGANIZER;CN="Equip de participaci%C3%B3":MAILTO:participa@limne.org
END:VEVENT
BEGIN:VEVENT
DTSTART;TZID=Europe/Madrid:20251108T103000
DTEND;TZID=Europe/Madrid:20251108T103000
DTSTAMP:20260422T224334
CREATED:20251028T151513Z
LAST-MODIFIED:20251028T152241Z
UID:17241-1762597800-1762597800@www.limne.org
SUMMARY:Inspecció de riu a Carcaixent
DESCRIPTION:El riu l’hem de cuidar entre totes! 🩵 El proper cap de setmana\, teniu una nova inspecció de riu a Carcaixent! \n🗓️ Quan? 8 de novembre\, a les 10:30h. \n📍 On? Pont de l’Horta. \nLa Fundació Limne\, el Consorci de La Ribera i l’Ajuntament Carcaixent\, en el marc del projecte #EmpleaXúquer\, vos convidem a una jornada de #VoluntariatAmbiental per inspeccionar el riu 🔬💧 \nSuma’t a l’acció! 💪 Anem inspeccionar\, però també a parlar de què li passa al nostre riu. Quins problemes creieu que l’afecten més? Vine\, comenta i obrim debat! \nL’activitat forma part del projecte EmpleaXúquer\, que compta amb el suport del Programa Empleaverde Plus\, gestionat per la Fundación Biodiversidad del Ministerio para la Transición Ecológica y el Reto Demográfico i cofinançat pel Fons Social Europeu Plus (FSE+) i que té com a objectiu donar suport a projectes de capacitació per a l’ocupació i emprenedoria verda\, dirigits a persones competències demanades per la transició ecològica. D’esta manera\, es vol facilitar l’accés al mercat laboral\, fomentar el reciclatge professional i l’emprenedoria més sostenible.
URL:https://www.limne.org/agenda/inspeccio-de-riu-a-carcaixent/
LOCATION:CIN\, c/ Pintor Ribera\, 2A\, Quart de Poblet\, VALENCIA\, 46930\, Espanya
ATTACH;FMTTYPE=image/png:https://www.limne.org/wp-content/uploads/2025/10/251108_EX_Carcaixent.png
ORGANIZER;CN="Equip de participaci%C3%B3":MAILTO:participa@limne.org
END:VEVENT
BEGIN:VEVENT
DTSTART;TZID=Europe/Madrid:20251108T103000
DTEND;TZID=Europe/Madrid:20251108T120000
DTSTAMP:20260422T224334
CREATED:20251028T095046Z
LAST-MODIFIED:20251028T095046Z
UID:17236-1762597800-1762603200@www.limne.org
SUMMARY:Plantació a Quart de Poblet amb #NaturTúria!
DESCRIPTION:🌱Unix-te a nosaltres per una jornada de plantació per restaurar el bosc de ribera del Túria\, a un tram molt afectat per la DANA de 2024.  \nLa vegetació de ribera és fonamental\, ja que: \n\nFiltra l’aigua: Millora la qualitat de l’aigua\, retenint contaminants.\nProtegeix els marges: Estabilitza les ribes i prevé l’erosió.\nDona refugi: Crea hàbitats per a la #Biodiversitat.\nRegula la temperatura: Manté el riu fresc\, afavorint la vida aquàtica.\n\nNo cal experiència\, només ganes de col·laborar i gaudir de la natura! \nDetalls de l’esdeveniment: \n\nOn: Centre d’Interpretació de la Natura de Quart de Poblet\nQuan: 8 de novembre\nHora: 10:30 h\n\nInscriu-te i sigues part del canvi! \nCorreu electrònic: educa@limne.org \nTelèfon: 654 048 509 \nL’activitat s’emmarca al projecte NaturTúria\, que compta amb el suport de la Fundación Biodiversidad del Ministerio para la Transición Ecológica y el Reto Demográfico (MITECO) en el marc del Plan de Recuperación\, Transformación y Resiliencia (PRTR)\, finançat per la Unió Europea – NextGenerationEU.
URL:https://www.limne.org/agenda/plantacio-a-quart-de-poblet-amb-naturturia/
LOCATION:CIN\, c/ Pintor Ribera\, 2A\, Quart de Poblet\, VALENCIA\, 46930\, Espanya
ATTACH;FMTTYPE=image/png:https://www.limne.org/wp-content/uploads/2025/10/251108_NaturTuria-1.png
ORGANIZER;CN="Equip de participaci%C3%B3":MAILTO:participa@limne.org
END:VEVENT
BEGIN:VEVENT
DTSTART;TZID=Europe/Madrid:20251108T103000
DTEND;TZID=Europe/Madrid:20251108T123000
DTSTAMP:20260422T224334
CREATED:20251027T143932Z
LAST-MODIFIED:20251027T143932Z
UID:17220-1762597800-1762605000@www.limne.org
SUMMARY:Plantació a Benimuslem
DESCRIPTION:🌱 El projecte #CanyaalaCanya vos convida a una nova jornada de plantació que tindrà lloc a Benimuslem\, el pròxim 8 de novembre a les 10:30 h.  \n🌳 Un bosc de ribera és vida! La vegetació de ribera no és només bonica\, és essencial per a la salut dels nostres #RiusValencians\, ja que: \n\nFiltrarà l’aigua: Millora la qualitat de l’aigua\, retenint contaminants abans que arriben al riu.\nProtegirà els marges: Estabilitza les ribes\, prevenint l’erosió i protegint contra les crescudes.\nDonarà refugi: Crea hàbitats vitals per a una gran varietat d’espècies animals i vegetals\, augmentant la #Biodiversitat.\nRegularà la temperatura: Proporciona ombra\, mantenint el riu més fresc i afavorint la vida aquàtica.\n\nNo cal experiència prèvia\, només ganes de col·laborar i passar un matí a l’aire lliure! \n📍 On: Escola El Portalet de Benimuslem\n🗓️ Quan: 8 de novembre\n⏰ Hora: 10:30 h \nInscriu-te i sigues part del canvi que volem veure al nostre riu! 👉 coopera@limne.org / 652 040 061 \n  \nL’activitat s’emmarca al projecte Canya a la Canya\, que compta amb el suport de la Fundación Biodiversidad del Ministerio para la Transición Ecológica y el Reto Demográfico (MITECO) en el marc del Plan de Recuperación\, Transformación y Resiliencia (PRTR)\, finançat per la Unió Europea – NextGenerationEU.
URL:https://www.limne.org/agenda/plantacio-a-benimuslem-2/
ATTACH;FMTTYPE=image/png:https://www.limne.org/wp-content/uploads/2025/10/251108_CAC_Benimuslem.png
ORGANIZER;CN="Equip de participaci%C3%B3":MAILTO:participa@limne.org
END:VEVENT
BEGIN:VEVENT
DTSTART;TZID=Europe/Madrid:20251109T103000
DTEND;TZID=Europe/Madrid:20251109T123000
DTSTAMP:20260422T224334
CREATED:20251028T085429Z
LAST-MODIFIED:20251028T085429Z
UID:17233-1762684200-1762691400@www.limne.org
SUMMARY:Plantació a Polinyà
DESCRIPTION: Propostes de voluntariat ambiental del projecte #Canyaalacanya \n Acompanya’ns al riu Xúquer i col·labora en la seua conservació i millora!\n\n\n Durant el darrer trimestre de 2025 tindrem diverses jornades de plantació vinculades al #Canyaalacanya\, on mostrarem com avança el projecte i podreu conèixer millor els objectius i fases del projecte.\n\n\n El dia 09 de novembre\, a les 10:30\, ens trobarem a la Zona d’Oci del Xúquer de Polinyà \n\n\n Inscripcions\n coopera@limne.org\n 652040061\n Missatge de Telegram/WhatsApp\n\nL’activitat s’emmarca al projecte Canya a la Canya\, que compta amb el suport de la Fundación Biodiversidad del Ministerio para la Transición Ecológica y el Reto Demográfico (MITECO) en el marc del Plan de Recuperación\, Transformación y Resiliencia (PRTR)\, finançat per la Unió Europea – NextGenerationEU.
URL:https://www.limne.org/agenda/plantacio-a-polinya-2/
ATTACH;FMTTYPE=image/png:https://www.limne.org/wp-content/uploads/2025/10/251109_CAC_Polinya.png
ORGANIZER;CN="Equip de participaci%C3%B3":MAILTO:participa@limne.org
END:VEVENT
BEGIN:VEVENT
DTSTART;TZID=Europe/Madrid:20251109T103000
DTEND;TZID=Europe/Madrid:20251109T123000
DTSTAMP:20260422T224334
CREATED:20251028T151822Z
LAST-MODIFIED:20251028T151849Z
UID:17245-1762684200-1762691400@www.limne.org
SUMMARY:Inspecció de riu a Alfarb
DESCRIPTION:El riu l’hem de cuidar entre totes! 🩵 El proper cap de setmana\, teniu una nova inspecció de riu a Alfarb! \n🗓️ Quan? 9 de novembre\, a les 10:30h. \n📍 On? Poliesportiu \nLa Fundació Limne\, el Consorci de La Ribera i l’Ajuntament d’Alfarb\, en el marc del projecte #EmpleaXúquer\, vos convidem a una jornada de #VoluntariatAmbiental per inspeccionar el riu 🔬💧 \nSuma’t a l’acció! 💪 Anem inspeccionar\, però també a parlar de què li passa al nostre riu. Quins problemes creieu que l’afecten més? Vine\, comenta i obrim debat! \nL’activitat forma part del projecte EmpleaXúquer\, que compta amb el suport del Programa Empleaverde Plus\, gestionat per la Fundación Biodiversidad del Ministerio para la Transición Ecológica y el Reto Demográfico i cofinançat pel Fons Social Europeu Plus (FSE+) i que té com a objectiu donar suport a projectes de capacitació per a l’ocupació i emprenedoria verda\, dirigits a persones competències demanades per la transició ecològica. D’esta manera\, es vol facilitar l’accés al mercat laboral\, fomentar el reciclatge professional i l’emprenedoria més sostenible.
URL:https://www.limne.org/agenda/inspeccio-de-riu-a-alfarb/
ATTACH;FMTTYPE=image/png:https://www.limne.org/wp-content/uploads/2025/10/251109_EX_Alfarb.png
ORGANIZER;CN="Equip de participaci%C3%B3":MAILTO:participa@limne.org
END:VEVENT
BEGIN:VEVENT
DTSTART;TZID=Europe/Madrid:20251115T103000
DTEND;TZID=Europe/Madrid:20251115T120000
DTSTAMP:20260422T224334
CREATED:20251111T113018Z
LAST-MODIFIED:20251111T113018Z
UID:17251-1763202600-1763208000@www.limne.org
SUMMARY:Inspecció de riu a Vilamarxant!
DESCRIPTION:Nova jornada d’inspecció de riu dins el #conveniTúria\, que compta amb el suport de la Confederació Hidrogràfica del Xúquer. \nEns ficarem les botes d’aigua i entrarem al riu a arreplegar mostres que analitzarem in situ. Sabies que la presència o absència d’alguns organismes ens mostren la qualitat de l’ecosistema? Vine a descobrir-ho! \nInscripcions: participa@limne.org / 654076533
URL:https://www.limne.org/agenda/inspeccio-de-riu-a-vilamarxant/
ATTACH;FMTTYPE=image/png:https://www.limne.org/wp-content/uploads/2025/11/251115_CT_Vilamarxant.png
ORGANIZER;CN="Equip de participaci%C3%B3":MAILTO:participa@limne.org
END:VEVENT
BEGIN:VEVENT
DTSTART;TZID=Europe/Madrid:20251116T103000
DTEND;TZID=Europe/Madrid:20251116T123000
DTSTAMP:20260422T224334
CREATED:20251116T160916Z
LAST-MODIFIED:20251116T160916Z
UID:17258-1763289000-1763296200@www.limne.org
SUMMARY:Plantació a Alberic
DESCRIPTION: Propostes de voluntariat ambiental del projecte #Canyaalacanya \n Acompanya’ns al riu Xúquer i col·labora en la seua conservació i millora!\n\n\n Durant el darrer trimestre de 2025 tindrem diverses jornades de plantació vinculades al #Canyaalacanya\, on mostrarem com avança el projecte i podreu conèixer millor els objectius i fases del projecte.\n\n\n El dia 16 de novembre\, a les 10:30\, ens trobarem al Llavador Municipal d’Alberic \n\n\n Inscripcions\n coopera@limne.org\n 652040061\n Missatge de Telegram/WhatsApp\n\nL’activitat s’emmarca al projecte Canya a la Canya\, que compta amb el suport de la Fundación Biodiversidad del Ministerio para la Transición Ecológica y el Reto Demográfico (MITECO) en el marc del Plan de Recuperación\, Transformación y Resiliencia (PRTR)\, finançat per la Unió Europea – NextGenerationEU.
URL:https://www.limne.org/agenda/plantacio-a-alberic-2/
ATTACH;FMTTYPE=image/png:https://www.limne.org/wp-content/uploads/2025/11/251116_CAC_Alberic-1.png
ORGANIZER;CN="Equip de participaci%C3%B3":MAILTO:participa@limne.org
END:VEVENT
BEGIN:VEVENT
DTSTART;TZID=Europe/Madrid:20251122T103000
DTEND;TZID=Europe/Madrid:20251122T123000
DTSTAMP:20260422T224334
CREATED:20251111T113211Z
LAST-MODIFIED:20251116T161941Z
UID:17254-1763807400-1763814600@www.limne.org
SUMMARY:Neteja del Túria
DESCRIPTION:Unim forces pel nostre riu! 💚 Esta tardor\, cada gest compta per a mantindre net i viu el Túria. \nEl Riu ens necessita! 💪 Vine amb la Fundació Limne a la jornada de neteja de rius al tram de Quart de Poblet. És l’oportunitat perfecta per a fer comunitat\, gaudir de l’aire lliure i donar un respir al nostre ecosistema fluvial. \n🗑️ Què farem?\nRetirada de residus de vora riu. La teua ajuda és clau! \n📍 On? Centre d’Interpretació de la Natura (CIN) de Quart de Poblet\n🗓️ Quan? Dissabte 22 de novembre\n⏰ Hora? 10:30 h \nNo cal experiència\, només ganes de col·laborar. Nosaltres posem els guants i les bosses! \nFes un pas endavant i sigues part del canvi! \n👉 Inscriu-te ja i assegura la teua plaça: educa@limne.org / 654048509 \n\n\nL’activitat s’emmarca al projecte NaturTúria\, que compta amb el suport de la Fundación Biodiversidad del Ministerio para la Transición Ecológica y el Reto Demográfico (MITECO) en el marc del Plan de Recuperación\, Transformación y Resiliencia (PRTR)\, finançat per la Unió Europea – NextGenerationEU.
URL:https://www.limne.org/agenda/plantacio-a-alberic/
LOCATION:CIN\, c/ Pintor Ribera\, 2A\, Quart de Poblet\, VALENCIA\, 46930\, Espanya
ATTACH;FMTTYPE=image/png:https://www.limne.org/wp-content/uploads/2025/11/251122_NT_neteja.png
ORGANIZER;CN="Equip de participaci%C3%B3":MAILTO:participa@limne.org
END:VEVENT
BEGIN:VEVENT
DTSTART;TZID=Europe/Madrid:20251123T103000
DTEND;TZID=Europe/Madrid:20251123T123000
DTSTAMP:20260422T224334
CREATED:20251116T163236Z
LAST-MODIFIED:20251116T163236Z
UID:17261-1763893800-1763901000@www.limne.org
SUMMARY:Inspecció de riu a Alcàntera de Xúquer
DESCRIPTION:El riu l’hem de cuidar entre totes!  El proper cap de setmana\, teniu una nova inspecció de riu a Alcàntera de Xúquer! \nSerà una jornada pràctica on mostrarem la metodologia del #ProjecteRius\, el nostre projecte degà de #voluntariatambiental que\, des de l’any 2005 portas unint persones i rius a la Demarcació Hidrogràfica del Xúquer \n Quan? 23 de novembre\, a les 10:30h. \n On? Àrea recreativa Les Penyetes \nLa Fundació Limne\, el Consorci de La Ribera i l’Ajuntament d’Alcàntera de Xúquer\, vos convidem a una jornada de #VoluntariatAmbiental per inspeccionar el riu  \nSuma’t a l’acció!  Anem inspeccionar\, però també a parlar de què li passa al nostre riu. Quins problemes creieu que l’afecten més? Vine\, comenta i obrim debat!
URL:https://www.limne.org/agenda/inspeccio-de-riu-a-alcantera-de-xuquer/
ATTACH;FMTTYPE=image/png:https://www.limne.org/wp-content/uploads/2025/11/20251123_EX_Alcantera.png
ORGANIZER;CN="Equip de participaci%C3%B3":MAILTO:participa@limne.org
END:VEVENT
BEGIN:VEVENT
DTSTART;TZID=Europe/Madrid:20251129T103000
DTEND;TZID=Europe/Madrid:20251129T123000
DTSTAMP:20260422T224334
CREATED:20251124T082410Z
LAST-MODIFIED:20251124T082410Z
UID:17281-1764412200-1764419400@www.limne.org
SUMMARY:VII Trobada Canya a la canya a Alzira
DESCRIPTION:VII TROBADA CANYA A LA CANYA A ALZIRA! \n\n\nSeguim amb les accions de restauració al riu Xúquer! Uneix-te a nosaltres el dissabte 29 de novembre al Pont de Ferro d’Alzira per a una jornada de plantació d’espècies de ribera. \n\n\nA banda\, parlarem de les accions del projecte i escoltarem les vostres suggerències de millora! Fes un pas endavant i ajuda’ns a protegir el nostre riu.\n\n\n Quan? Dissabte 29 de novembre\, 10:30h\n On? Pont de Ferro (alzira)\n\n\nVols participar? Inscriu-te ja!\n coopera@limne.org\n 652040061 (Telegram/WhatsApp)
URL:https://www.limne.org/agenda/vii-trobada-canya-a-la-canya-a-alzira/
ATTACH;FMTTYPE=image/png:https://www.limne.org/wp-content/uploads/2025/11/251129_Trobada_Alzira.png
ORGANIZER;CN="Equip de participaci%C3%B3":MAILTO:participa@limne.org
END:VEVENT
BEGIN:VEVENT
DTSTART;TZID=Europe/Madrid:20251130T103000
DTEND;TZID=Europe/Madrid:20251130T123000
DTSTAMP:20260422T224334
CREATED:20251116T164858Z
LAST-MODIFIED:20251116T164858Z
UID:17267-1764498600-1764505800@www.limne.org
SUMMARY:Inspecció de riu a Riba-roja de Túria
DESCRIPTION:Seguim amb les jornades d’inspecció de riu dins el #conveniTúria\, que compta amb el suport de la Confederació Hidrogràfica del Xúquer. \nEns ficarem les botes d’aigua i entrarem al riu a arreplegar mostres que analitzarem in situ. Sabies que la presència o absència d’alguns organismes ens mostren la qualitat de l’ecosistema? Vine a descobrir-ho! \nInscripcions: participa@limne.org / 654076533
URL:https://www.limne.org/agenda/inspeccio-de-riu-a-riba-roja-de-turia/
ATTACH;FMTTYPE=image/png:https://www.limne.org/wp-content/uploads/2025/11/251130_CT_Riba_roja.png
ORGANIZER;CN="Equip de participaci%C3%B3":MAILTO:participa@limne.org
END:VEVENT
BEGIN:VEVENT
DTSTART;TZID=Europe/Madrid:20251130T103000
DTEND;TZID=Europe/Madrid:20251130T123000
DTSTAMP:20260422T224334
CREATED:20251116T170703Z
LAST-MODIFIED:20251116T170703Z
UID:17270-1764498600-1764505800@www.limne.org
SUMMARY:Inspecció de riu a Castelló
DESCRIPTION:El riu l’hem de cuidar entre totes!  El proper cap de setmana\, teniu una nova inspecció de riu a Castelló! \nSerà una jornada pràctica on mostrarem la metodologia del #ProjecteRius\, el nostre projecte degà de #voluntariatambiental que\, des de l’any 2005 portas unint persones i rius a la Demarcació Hidrogràfica del Xúquer \n Quan? 30 de novembre\, a les 10:30h. \n On? Passarel·la del camí del Pla (baix del pont de l’Albaida) \nLa Fundació Limne\, el Consorci de La Ribera i l’Ajuntament de Castelló\, vos convidem a una jornada de #VoluntariatAmbiental per inspeccionar el riu  \nSuma’t a l’acció!  Anem inspeccionar\, però també a parlar de què li passa al nostre riu. Quins problemes creieu que l’afecten més? Vine\, comenta i obrim debat!
URL:https://www.limne.org/agenda/inspeccio-de-riu-a-castello/
ATTACH;FMTTYPE=image/png:https://www.limne.org/wp-content/uploads/2025/11/251130_EX_Castello.png
ORGANIZER;CN="Equip de participaci%C3%B3":MAILTO:participa@limne.org
END:VEVENT
END:VCALENDAR