BEGIN:VCALENDAR
VERSION:2.0
PRODID:-//Limne - ECPv6.15.20//NONSGML v1.0//EN
CALSCALE:GREGORIAN
METHOD:PUBLISH
X-ORIGINAL-URL:https://www.limne.org
X-WR-CALDESC:Esdeveniments per Limne
REFRESH-INTERVAL;VALUE=DURATION:PT1H
X-Robots-Tag:noindex
X-PUBLISHED-TTL:PT1H
BEGIN:VTIMEZONE
TZID:Europe/Madrid
BEGIN:DAYLIGHT
TZOFFSETFROM:+0100
TZOFFSETTO:+0200
TZNAME:CEST
DTSTART:20240331T010000
END:DAYLIGHT
BEGIN:STANDARD
TZOFFSETFROM:+0200
TZOFFSETTO:+0100
TZNAME:CET
DTSTART:20241027T010000
END:STANDARD
BEGIN:DAYLIGHT
TZOFFSETFROM:+0100
TZOFFSETTO:+0200
TZNAME:CEST
DTSTART:20250330T010000
END:DAYLIGHT
BEGIN:STANDARD
TZOFFSETFROM:+0200
TZOFFSETTO:+0100
TZNAME:CET
DTSTART:20251026T010000
END:STANDARD
BEGIN:DAYLIGHT
TZOFFSETFROM:+0100
TZOFFSETTO:+0200
TZNAME:CEST
DTSTART:20260329T010000
END:DAYLIGHT
BEGIN:STANDARD
TZOFFSETFROM:+0200
TZOFFSETTO:+0100
TZNAME:CET
DTSTART:20261025T010000
END:STANDARD
END:VTIMEZONE
BEGIN:VEVENT
DTSTART;TZID=Europe/Madrid:20251213T103000
DTEND;TZID=Europe/Madrid:20251213T123000
DTSTAMP:20260422T210830
CREATED:20251209T100427Z
LAST-MODIFIED:20251209T100427Z
UID:17286-1765621800-1765629000@www.limne.org
SUMMARY:Plantació a Antella
DESCRIPTION:El projecte #CanyaalaCanya vos convida a una nova jornada de plantació que tindrà lloc a Antella\, el pròxim 13 de desembre a les 10:30 h. \n Un bosc de ribera és vida! La vegetació de ribera no és només bonica\, és essencial per a la salut dels nostres #RiusValencians\, ja que: \n\nFiltrarà l’aigua: Millora la qualitat de l’aigua\, retenint contaminants abans que arriben al riu.\nProtegirà els marges: Estabilitza les ribes\, prevenint l’erosió i protegint contra les crescudes.\nDonarà refugi: Crea hàbitats vitals per a una gran varietat d’espècies animals i vegetals\, augmentant la #Biodiversitat.\nRegularà la temperatura: Proporciona ombra\, mantenint el riu més fresc i afavorint la vida aquàtica.\n\nNo cal experiència prèvia\, només ganes de col·laborar i passar un matí a l’aire lliure! \n On: Assut d’Antella\n Quan: 13 de desembre\n Hora: 10:30 h \nInscriu-te i sigues part del canvi que volem veure al nostre riu!  coopera@limne.org / 652 040 061 \nL’activitat s’emmarca al projecte Canya a la Canya\, que compta amb el suport de la Fundación Biodiversidad del Ministerio para la Transición Ecológica y el Reto Demográfico (MITECO) en el marc del Plan de Recuperación\, Transformación y Resiliencia (PRTR)\, finançat per la Unió Europea – NextGenerationEU.
URL:https://www.limne.org/agenda/plantacio-a-antella/
ATTACH;FMTTYPE=image/png:https://www.limne.org/wp-content/uploads/2025/12/251213_CAC_Antella.png
ORGANIZER;CN="Equip de participaci%C3%B3":MAILTO:participa@limne.org
END:VEVENT
BEGIN:VEVENT
DTSTART;TZID=Europe/Madrid:20251213T103000
DTEND;TZID=Europe/Madrid:20251213T123000
DTSTAMP:20260422T210830
CREATED:20251209T100944Z
LAST-MODIFIED:20251209T105625Z
UID:17292-1765621800-1765629000@www.limne.org
SUMMARY:Experiments d'hivern
DESCRIPTION:Matins de ciència! NaturTúria tanca el seu cicle d’activitats de 2025 amb una nova sessió d’experiments per a tota la família! \n 13 de desembre\n 10:30h\n Centre d’Interpretació de la Natura \nInscripcions:\n educa@limne.org\n 654 048 5093 (WhatsApp/Telegram) \nEs demana inscripció prèvia per mail o telèfon. Places limitades. \nL’activitat s’emmarca al projecte NaturTúria\, que compta amb el suport de la Fundación Biodiversidad del Ministerio para la Transición Ecológica y el Reto Demográfico (MITECO) en el marc del Plan de Recuperación\, Transformación y Resiliencia (PRTR)\, finançat per la Unió Europea – NextGenerationEU.
URL:https://www.limne.org/agenda/experiments-dhivern/
ATTACH;FMTTYPE=image/png:https://www.limne.org/wp-content/uploads/2025/12/251213_NT_Experiments.png
ORGANIZER;CN="Equip de participaci%C3%B3":MAILTO:participa@limne.org
END:VEVENT
BEGIN:VEVENT
DTSTART;TZID=Europe/Madrid:20251214T103000
DTEND;TZID=Europe/Madrid:20251214T123000
DTSTAMP:20260422T210830
CREATED:20251209T100609Z
LAST-MODIFIED:20251209T100609Z
UID:17289-1765708200-1765715400@www.limne.org
SUMMARY:Plantació a Albalat de la Ribera
DESCRIPTION:El projecte #CanyaalaCanya vos convida a una nova jornada de plantació que tindrà lloc a Albalat de la Ribera\, el pròxim 14 de desembre a les 10:30 h. \n Un bosc de ribera és vida! La vegetació de ribera no és només bonica\, és essencial per a la salut dels nostres #RiusValencians\, ja que: \n\nFiltrarà l’aigua: Millora la qualitat de l’aigua\, retenint contaminants abans que arriben al riu.\nProtegirà els marges: Estabilitza les ribes\, prevenint l’erosió i protegint contra les crescudes.\nDonarà refugi: Crea hàbitats vitals per a una gran varietat d’espècies animals i vegetals\, augmentant la #Biodiversitat.\nRegularà la temperatura: Proporciona ombra\, mantenint el riu més fresc i afavorint la vida aquàtica.\n\nNo cal experiència prèvia\, només ganes de col·laborar i passar un matí a l’aire lliure! \n On: Assut d’Albalat de la Ribera\n Quan: 14 de desembre\n Hora: 10:30 h \nInscriu-te i sigues part del canvi que volem veure al nostre riu!  coopera@limne.org / 652 040 061 \nL’activitat s’emmarca al projecte Canya a la Canya\, que compta amb el suport de la Fundación Biodiversidad del Ministerio para la Transición Ecológica y el Reto Demográfico (MITECO) en el marc del Plan de Recuperación\, Transformación y Resiliencia (PRTR)\, finançat per la Unió Europea – NextGenerationEU.
URL:https://www.limne.org/agenda/plantacio-a-albalat-de-la-ribera/
ATTACH;FMTTYPE=image/png:https://www.limne.org/wp-content/uploads/2025/12/251214_CAC_Albalat.png
ORGANIZER;CN="Equip de participaci%C3%B3":MAILTO:participa@limne.org
END:VEVENT
BEGIN:VEVENT
DTSTART;TZID=Europe/Madrid:20251220T103000
DTEND;TZID=Europe/Madrid:20251220T123000
DTSTAMP:20260422T210830
CREATED:20251209T104757Z
LAST-MODIFIED:20251209T104757Z
UID:17298-1766226600-1766233800@www.limne.org
SUMMARY:Plantació a Sueca
DESCRIPTION:El projecte #CanyaalaCanya vos convida a una nova jornada de plantació que tindrà lloc a Sueca\, el pròxim 20 de desembre a les 10:30 h. \n Un bosc de ribera és vida! La vegetació de ribera no és només bonica\, és essencial per a la salut dels nostres #RiusValencians\, ja que: \n\nFiltrarà l’aigua: Millora la qualitat de l’aigua\, retenint contaminants abans que arriben al riu.\nProtegirà els marges: Estabilitza les ribes\, prevenint l’erosió i protegint contra les crescudes.\nDonarà refugi: Crea hàbitats vitals per a una gran varietat d’espècies animals i vegetals\, augmentant la #Biodiversitat.\nRegularà la temperatura: Proporciona ombra\, mantenint el riu més fresc i afavorint la vida aquàtica.\n\nNo cal experiència prèvia\, només ganes de col·laborar i passar un matí a l’aire lliure! \n On: Assut de Sueca\n Quan: 20 de desembre\n Hora: 10:30 h \nInscriu-te i sigues part del canvi que volem veure al nostre riu!  coopera@limne.org / 652 040 061 \nL’activitat s’emmarca al projecte Canya a la Canya\, que compta amb el suport de la Fundación Biodiversidad del Ministerio para la Transición Ecológica y el Reto Demográfico (MITECO) en el marc del Plan de Recuperación\, Transformación y Resiliencia (PRTR)\, finançat per la Unió Europea – NextGenerationEU.
URL:https://www.limne.org/agenda/plantacio-a-sueca/
ATTACH;FMTTYPE=image/png:https://www.limne.org/wp-content/uploads/2025/12/251220_CAC_Sueca.png
ORGANIZER;CN="Equip de participaci%C3%B3":MAILTO:participa@limne.org
END:VEVENT
BEGIN:VEVENT
DTSTART;TZID=Europe/Madrid:20251221T103000
DTEND;TZID=Europe/Madrid:20251221T123000
DTSTAMP:20260422T210830
CREATED:20251209T104931Z
LAST-MODIFIED:20251209T104931Z
UID:17301-1766313000-1766320200@www.limne.org
SUMMARY:Plantació a Algemesí
DESCRIPTION:El projecte #CanyaalaCanya vos convida a una nova jornada de plantació que tindrà lloc a Algemesí\, el pròxim 21 de desembre a les 10:30 h. \n Un bosc de ribera és vida! La vegetació de ribera no és només bonica\, és essencial per a la salut dels nostres #RiusValencians\, ja que: \n\nFiltrarà l’aigua: Millora la qualitat de l’aigua\, retenint contaminants abans que arriben al riu.\nProtegirà els marges: Estabilitza les ribes\, prevenint l’erosió i protegint contra les crescudes.\nDonarà refugi: Crea hàbitats vitals per a una gran varietat d’espècies animals i vegetals\, augmentant la #Biodiversitat.\nRegularà la temperatura: Proporciona ombra\, mantenint el riu més fresc i afavorint la vida aquàtica.\n\nNo cal experiència prèvia\, només ganes de col·laborar i passar un matí a l’aire lliure! \n On: PNM Bosc de Ribera (Algemesí)\n Quan: 21 de desembre\n Hora: 10:30 h \nInscriu-te i sigues part del canvi que volem veure al nostre riu!  coopera@limne.org / 652 040 061 \nL’activitat s’emmarca al projecte Canya a la Canya\, que compta amb el suport de la Fundación Biodiversidad del Ministerio para la Transición Ecológica y el Reto Demográfico (MITECO) en el marc del Plan de Recuperación\, Transformación y Resiliencia (PRTR)\, finançat per la Unió Europea – NextGenerationEU.
URL:https://www.limne.org/agenda/plantacio-a-algemesi/
ATTACH;FMTTYPE=image/png:https://www.limne.org/wp-content/uploads/2025/12/251221_CAC_Algemesi.png
ORGANIZER;CN="Equip de participaci%C3%B3":MAILTO:participa@limne.org
END:VEVENT
BEGIN:VEVENT
DTSTART;TZID=Europe/Madrid:20251223T103000
DTEND;TZID=Europe/Madrid:20251223T123000
DTSTAMP:20260422T210830
CREATED:20251209T101715Z
LAST-MODIFIED:20251209T101715Z
UID:17295-1766485800-1766493000@www.limne.org
SUMMARY:Jornada sobre tortugues
DESCRIPTION:Borriana organitza una jornada de conscienciació ciutadana sobre les necessitats de conservació de les tortugues autòctones que habiten el Paratge Natural Municipal del Clot de la Mare de Déu\, concretament la tortuga d’aigua europea (Emys orbicularis) i la tortuga d’aigua ibèrica (Mauremys leprosa). \nAmbdós espècies estan protegides i compten amb presència al municipi malgrat que les seves poblacions es veuen afectades per l’abandament incontrolat de tortugues americanes o asiàtiques\, que es popularitzen per la seua mida reduïda\, el seu baix preu i la poca atenció que requerixen. \nLa jornada d’educació ambiental es centrarà en destacar la importància que la gent sàpiga que està prohibit alliberar animals exòtics a espais naturals i fomentar una tinença responsable.
URL:https://www.limne.org/agenda/jornada-sobre-tortugues/
ATTACH;FMTTYPE=image/png:https://www.limne.org/wp-content/uploads/2025/12/251223_Borriana_tortugues.png
ORGANIZER;CN="Equip de participaci%C3%B3":MAILTO:participa@limne.org
END:VEVENT
END:VCALENDAR